BEGIN:VCALENDAR
VERSION:2.0
PRODID:-//AudioTheme 2.3.1
BEGIN:VEVENT
UID:urn:uuid:8cb569b5-b428-4b54-bb53-307ecfe52870
URL:https://halfpintgrowler.com/gigs/hpgs-trio-at-el-rey-court/
DTSTART;TZID=GMT:20220613T010000
SUMMARY:El Rey Court
DESCRIPTION:Please join Half Pint and The Growlers for our debut performance at La Reina in El Rey Court. Enjoy signature cocktails\, mezcal\, beer\, wine + saké at this iconic gem. 
LOCATION:El Rey Court\, 1862 Cerrillos Rd\, Santa Fe\, NM\, USA\, 87505
END:VEVENT
END:VCALENDAR
