BEGIN:VCALENDAR
VERSION:2.0
PRODID:-//AudioTheme 2.3.1
BEGIN:VEVENT
UID:urn:uuid:8d95dfb2-c1ad-4889-8c07-bd15abd31d76
URL:https://halfpintgrowler.com/gigs/hpg-trio-at-altar-spirits/
DTSTART;TZID=GMT:20230804T013000
SUMMARY:HPG Trio at As Above So Below
DESCRIPTION:Please join the Half Pint and The Growlers Trio in the Santa Fe Railyard for amazing cocktails and ambiance at this enchanting craft distillery.
LOCATION:As Above So Below (formerly Altar Spirits)\, 545 Camino de la Familia\, Santa Fe\, NM\, 87501
END:VEVENT
END:VCALENDAR
