BEGIN:VCALENDAR
VERSION:2.0
PRODID:-//AudioTheme 2.3.1
BEGIN:VEVENT
UID:urn:uuid:dce59c52-29d3-465d-8374-deba996c07b2
URL:https://halfpintgrowler.com/gigs/hpg-duo-at-chile-line-brewing/
DTSTART;TZID=GMT:20240211T020000
SUMMARY:HPG Duo at Chile Line Brewing
DESCRIPTION:Tamra and Ed (Half Pint and the OG) will be playing an acoustic show with some of your favorites and a few new faves too! Please join us for amazing pizza and locally crafted beer at this locals' favorite hangout.
LOCATION:Chile Line Brewery\, 204 N. Guadalupe St.\, Santa Fe\, NM\, United States\, 87501
END:VEVENT
END:VCALENDAR
