BEGIN:VCALENDAR
VERSION:2.0
PRODID:-//AudioTheme 2.3.1
BEGIN:VEVENT
UID:urn:uuid:ca50ded0-ae61-4c75-97ff-9eca471a7efe
URL:https://halfpintgrowler.com/gigs/horseshoe-market-spring-market/
DTSTART;TZID=GMT:20190512T160000
SUMMARY:Horseshoe Market (Spring Market)
DESCRIPTION:Local handmade and vintage art\, food vendors\, food trucks\, mobile boutiques – plus Half Pint & The Growlers! New location at Mile High Stadium! 
LOCATION:Spring Horseshoe Market\, Broncos Stadium at Mile High 1701 Bryant Street\, Denver\, CO\, 80204
END:VEVENT
END:VCALENDAR
