BEGIN:VCALENDAR
VERSION:2.0
PRODID:-//AudioTheme 2.3.1
BEGIN:VEVENT
UID:urn:uuid:c77fe7d6-d91a-411a-a45a-0d2fef7e2482
URL:https://halfpintgrowler.com/gigs/horseshoe-holiday-market/
DTSTART;TZID=GMT:20181126T170000
SUMMARY:Horseshoe Holiday Market
DESCRIPTION:One of Denver's best-loved holiday markets! 
LOCATION:Horseshoe Holiday Market\, 4345 W. 46th Ave\, Denver\, CO\, 80202
END:VEVENT
END:VCALENDAR
