BEGIN:VCALENDAR
VERSION:2.0
PRODID:-//AudioTheme 2.3.1
BEGIN:VEVENT
UID:urn:uuid:134e9137-0c16-4539-b413-a7cf2db87d74
URL:https://halfpintgrowler.com/gigs/horseshoe-holiday-market-3/
DTSTART;TZID=GMT:20161126T180000
SUMMARY:Horseshoe Holiday Market
LOCATION:Horseshoe Holiday Market\, 4345 W. 46th Ave\, Denver\, CO\, 80202
END:VEVENT
END:VCALENDAR
