BEGIN:VCALENDAR
VERSION:2.0
PRODID:-//AudioTheme 2.3.1
BEGIN:VEVENT
UID:urn:uuid:cf40b526-df00-4ef3-bb20-a64433d6ec02
URL:https://halfpintgrowler.com/gigs/horseshoe-holiday-market-2/
DTSTART;TZID=GMT:20171126T170000
SUMMARY:Horseshoe Holiday Market
DESCRIPTION:Kick of the holiday season and get a jump start on your holiday shopping at one of Denver's favorite holiday markets!
LOCATION:Horseshoe Holiday Market\, 4345 W. 46th Ave\, Denver\, CO\, 80202
END:VEVENT
END:VCALENDAR
