BEGIN:VCALENDAR
VERSION:2.0
PRODID:-//AudioTheme 2.3.1
BEGIN:VEVENT
UID:urn:uuid:3ac469ee-8b74-43d4-a5dc-37f53a79f607
URL:https://halfpintgrowler.com/gigs/honeymoon-brewery/
DTSTART;TZID=GMT:20221022T000000
SUMMARY:HoneyMoon Brewery
DESCRIPTION:Join us at this sweet little Hard Kombucha Brewery! HoneyMoon offers stellar hard kombuchas\, local SF brews on tap\, and seasonal cocktails. Feel free to bring a to-go meal and enjoy our tasty tunes with dinner. We'll be on the patio weather permitting! 
LOCATION:HoneyMoon Brewery\, 907 W Alameda St Unit B New Solana Shopping Center (next to the Co-Op)\, Santa Fe\, NM\, 87501
END:VEVENT
END:VCALENDAR
