BEGIN:VCALENDAR
VERSION:2.0
PRODID:-//AudioTheme 2.3.1
BEGIN:VEVENT
UID:urn:uuid:9b961ff1-f6fc-4ba3-89be-493c139888e4
URL:https://halfpintgrowler.com/gigs/honeymoon-brewery-2/
DTSTART;TZID=GMT:20230128T010000
SUMMARY:HoneyMoon Brewery
DESCRIPTION:We're thrilled to return to Honeymoon Brewery! Join us for hard kombucha\, local beer on tap\, signature cocktails\, and our swing gumbo. 
LOCATION:HoneyMoon Brewery\, 907 W Alameda St Unit B New Solana Shopping Center (next to the Co-Op)\, Santa Fe\, NM\, 87501
END:VEVENT
END:VCALENDAR
