BEGIN:VCALENDAR
VERSION:2.0
PRODID:-//AudioTheme 2.3.1
BEGIN:VEVENT
UID:urn:uuid:34369586-289f-42b4-9fc4-6e0d7d754720
URL:https://halfpintgrowler.com/gigs/holiday-market-at-larimer-square/
DTSTART;VALUE=DATE:20191212
SUMMARY:Larimer Square Holiday Market
DESCRIPTION:Join us at the pop-up bar (heated) at this eclectic holiday market in one of Denver's most historic blocks!
LOCATION:Larimer Square Holiday Market\, 1430 Larimer St.\, Denver\, CO
END:VEVENT
END:VCALENDAR
