BEGIN:VCALENDAR
VERSION:2.0
PRODID:-//AudioTheme 2.3.1
BEGIN:VEVENT
UID:urn:uuid:e3372756-e398-4b86-a229-995dc945a21e
URL:https://halfpintgrowler.com/gigs/halloween-at-golden-moon-speakeasy/
DTSTART;TZID=GMT:20191101T020000
SUMMARY:Halloween at Golden Moon Speakeasy
DESCRIPTION:We're gonna howl (and Growl) at the Moon this Halloween! Join us – if you dare! Bwahahaha.
LOCATION:Golden Moon Speakeasy\, 1111 Miner's Alley\, Golden\, CO\, 80401
END:VEVENT
END:VCALENDAR
