BEGIN:VCALENDAR
VERSION:2.0
PRODID:-//AudioTheme 2.3.1
BEGIN:VEVENT
UID:urn:uuid:9f8a0636-c3cc-448e-9d26-69df15c0fe2e
URL:https://halfpintgrowler.com/gigs/golden-moon-speakeasy/
DTSTART;TZID=GMT:20180909T020000
SUMMARY:Golden Moon Speakeasy
LOCATION:Golden Moon Speakeasy\, 1111 Miner's Alley\, Golden\, CO\, 80401
END:VEVENT
END:VCALENDAR
