BEGIN:VCALENDAR
VERSION:2.0
PRODID:-//AudioTheme 2.3.1
BEGIN:VEVENT
UID:urn:uuid:3d4f629a-8fe7-4f85-856f-bbca2445ce19
URL:https://halfpintgrowler.com/gigs/golden-moon-speakeasy-4/
DTSTART;TZID=GMT:20190324T020000
SUMMARY:Golden Moon Speakeasy
DESCRIPTION:Join us for amazing cocktails at this cozy neighborhood gem. No Cover.
LOCATION:Golden Moon Speakeasy\, 1111 Miner's Alley\, Golden\, CO\, 80401
END:VEVENT
END:VCALENDAR
