BEGIN:VCALENDAR
VERSION:2.0
PRODID:-//AudioTheme 2.3.1
BEGIN:VEVENT
UID:urn:uuid:cb89b1c0-25f1-43a4-90a4-1076661bb13d
URL:https://halfpintgrowler.com/gigs/golden-moon-speakeasy-3/
DTSTART;TZID=GMT:20170723T020000
SUMMARY:Golden Moon Speakeasy
LOCATION:Golden Moon Speakeasy\, 1111 Miner's Alley\, Golden\, CO\, 80401
END:VEVENT
END:VCALENDAR
