BEGIN:VCALENDAR
VERSION:2.0
PRODID:-//AudioTheme 2.3.1
BEGIN:VEVENT
UID:urn:uuid:b697b147-8e6a-4f52-908f-5033226ae7db
URL:https://halfpintgrowler.com/gigs/golden-moon-speakeasy-2/
DTSTART;TZID=GMT:20180513T010000
SUMMARY:Golden Moon Speakeasy
LOCATION:Golden Moon Speakeasy\, 1111 Miner's Alley\, Golden\, CO\, 80401
END:VEVENT
END:VCALENDAR
