BEGIN:VCALENDAR
VERSION:2.0
PRODID:-//AudioTheme 2.3.1
BEGIN:VEVENT
UID:urn:uuid:b63115ba-fafc-4309-8e4b-618d9ecb78a6
URL:https://halfpintgrowler.com/gigs/golden-fine-arts-festival/
DTSTART;TZID=GMT:20170820T160000
SUMMARY:Golden Fine Arts Festival
DESCRIPTION:The Golden Fine Arts Festival is a prestigious juried art show located in the heart of historic downtown Golden\, Colorado. We'll be at the beer and wine tent! 
LOCATION:Golden Fine Arts Festival\, Historic Downtown Golden\, Golden\, CO\, 80401
END:VEVENT
END:VCALENDAR
