BEGIN:VCALENDAR
VERSION:2.0
PRODID:-//AudioTheme 2.3.1
BEGIN:VEVENT
UID:urn:uuid:0aeed8ca-17bc-482e-86e6-d308482e4793
URL:https://halfpintgrowler.com/gigs/golden-fine-arts-festival-2/
DTSTART;TZID=GMT:20190817T200000
SUMMARY:Golden Fine Arts Festival
DESCRIPTION:A Golden icon for three decades\, this prestigious art show features food vendors\, children’s activities\,  beer/wine gardens\, and live entertainment. Free admission!
LOCATION:Golden Fine Arts Festival\, Historic Downtown Golden\, Golden\, CO\, 80401
END:VEVENT
END:VCALENDAR
