BEGIN:VCALENDAR
VERSION:2.0
PRODID:-//AudioTheme 2.3.1
BEGIN:VEVENT
UID:urn:uuid:e2903985-bfac-4840-929f-909121684504
URL:https://halfpintgrowler.com/gigs/golden-farmers-market/
DTSTART;TZID=GMT:20170909T140000
SUMMARY:Golden Farmer's Market
LOCATION:Golden Farmer's Market\, 1019 10th Street\, Golden\, CO\, 80401
END:VEVENT
END:VCALENDAR
