BEGIN:VCALENDAR
VERSION:2.0
PRODID:-//AudioTheme 2.3.1
BEGIN:VEVENT
UID:urn:uuid:726ce412-4e04-4bf3-8602-8cc8680cbb1d
URL:https://halfpintgrowler.com/gigs/golden-chamber-chili-cook-off-beer-tasting/
DTSTART;TZID=GMT:20191012T190000
SUMMARY:Golden Chamber Chili Cook-Off & Beer Tasting
DESCRIPTION:General admission tickets include free samples from over 30 chili competitors and 90 different beers. Hello Fall!  PS – You'll be helping St. Jude's Hospital while partaking in the fun!
LOCATION:13th Annual Golden Chili Cook-Off & Beer Tasting\, 701 10th Street\, Golden\, CO\, 80401
END:VEVENT
END:VCALENDAR
