BEGIN:VCALENDAR
VERSION:2.0
PRODID:-//AudioTheme 2.3.1
BEGIN:VEVENT
UID:urn:uuid:9367b023-d65d-4ea6-b6b6-c054ce236bae
URL:https://halfpintgrowler.com/gigs/golden-beer-tasting-and-chili-cook-off/
DTSTART;TZID=GMT:20201010T190000
SUMMARY:Golden Beer Tasting and Chili Cook Off
DESCRIPTION:CANCELED  General admission tickets include samples of over ninety different beers and thirty chili competitors! Stay tuned for ticket info!
LOCATION:13th Annual Golden Chili Cook-Off & Beer Tasting\, 701 10th Street\, Golden\, CO\, 80401
END:VEVENT
END:VCALENDAR
