BEGIN:VCALENDAR
VERSION:2.0
PRODID:-//AudioTheme 2.3.1
BEGIN:VEVENT
UID:urn:uuid:ea41ae58-4e2c-4240-8243-f3c452b25256
URL:https://halfpintgrowler.com/gigs/glass-top-bar/
DTSTART;TZID=GMT:20180721T230000
SUMMARY:Glass Top Bar
DESCRIPTION:Catch us pre-show for a drink at the Glass Top Bar before taking your seat inside.
LOCATION:Denver Center for the Performing Arts\, The Glass Top Bar 1101 13th Street\, Denver\, CO\, 80204
END:VEVENT
END:VCALENDAR
