BEGIN:VCALENDAR
VERSION:2.0
PRODID:-//AudioTheme 2.3.1
BEGIN:VEVENT
UID:urn:uuid:1a57b07b-489d-4d7a-9bcc-09d05a314158
URL:https://halfpintgrowler.com/gigs/gig-706/
DTSTART;TZID=GMT:20200215T013000
SUMMARY:Canciones de Amor y Bebida at Bonacquisti Wine
DESCRIPTION:Canciones de Amor y Bebida – It's Valentine's Day and we're bringing songs of love and drinking to a very special Fridays Uncorked. Three handmade chocolate creations from Chocolate Lab Denver paired with 3 small-production Bonacquisti Wines.  ❤️ Visit bonacquistiwine.com for ticket info.
LOCATION:Bonacquisti Wine\, 4640 Pecos St.\, Denver\, CO\, 80211
END:VEVENT
END:VCALENDAR
