BEGIN:VCALENDAR
VERSION:2.0
PRODID:-//AudioTheme 2.3.1
BEGIN:VEVENT
UID:urn:uuid:2cb4ea0a-ea9b-4f6e-9534-6daa6026b747
URL:https://halfpintgrowler.com/gigs/gig-620/
DTSTART;TZID=GMT:20191117T030000
SUMMARY:Kline's Beer Hall
DESCRIPTION:We're so happy to return to Kline's Beer Hall. Awesome menu\, impressive beer selection\, and our bohemian swing!
LOCATION:Kline's Beer Hall\, 7519 Grandview Ave\, Arvada\, CO\, 80002
END:VEVENT
END:VCALENDAR
