BEGIN:VCALENDAR
VERSION:2.0
PRODID:-//AudioTheme 2.3.1
BEGIN:VEVENT
UID:urn:uuid:d102a774-8afb-4181-9ee3-bdb2c095d584
URL:https://halfpintgrowler.com/gigs/gig-1958/
DTSTART;TZID=GMT:20260824T230000
SUMMARY:Tumbleroot Brewery
DESCRIPTION:Monday is the new Funday y'all! Please join us for a very happy few hours at Tumbleroot's Patio Series! 
LOCATION:Tumbleroot Brewery\, 2791 Agua Fria St.\, Santa Fe\, NM\, 87507
END:VEVENT
END:VCALENDAR
