BEGIN:VCALENDAR
VERSION:2.0
PRODID:-//AudioTheme 2.3.1
BEGIN:VEVENT
UID:urn:uuid:8e75905a-2beb-4e6d-9df5-a2b9de76aaa6
URL:https://halfpintgrowler.com/gigs/fridays-uncorked/
DTSTART;TZID=GMT:20191109T013000
SUMMARY:Fridays Uncorked
DESCRIPTION:Join us for Fridays Uncorked at Bonaquisti Wine!
LOCATION:Bonacquisti Wine\, 4640 Pecos St.\, Denver\, CO\, 80211
END:VEVENT
END:VCALENDAR
