BEGIN:VCALENDAR
VERSION:2.0
PRODID:-//AudioTheme 2.3.1
BEGIN:VEVENT
UID:urn:uuid:8ae23486-d3e1-4ce1-9560-d5f0bdc7037b
URL:https://halfpintgrowler.com/gigs/friday-jazz-with-half-pint-and-the-growlers-at-chile-line-brewery/
DTSTART;TZID=GMT:20240622T010000
SUMMARY:Friday Jazz with Half Pint and The Growlers at Chile Line Brewery
DESCRIPTION:We're excited to bring our unique take on vintage jazz and swing to the beloved Friday Night Jazz stage at Chile Line Brewery! Please join us for scrumptious pizza and crafted brews. Nice space for dancing too!
LOCATION:Chile Line Brewery\, 204 N. Guadalupe St.\, Santa Fe\, NM\, United States\, 87501
END:VEVENT
END:VCALENDAR
