BEGIN:VCALENDAR
VERSION:2.0
PRODID:-//AudioTheme 2.3.1
BEGIN:VEVENT
UID:urn:uuid:cb71dc0f-031e-40b6-9980-98c2690e1f56
URL:https://halfpintgrowler.com/gigs/friday-jazz-at-kohnami/
DTSTART;TZID=GMT:20240914T000000
SUMMARY:Friday Jazz at Kohnami
DESCRIPTION:Join us at Santa Fe's newest patio stage for our swing gumbo and Kohnami's sushi\, Japanese dishes & hot/cold sake.
LOCATION:Kohnami Japanese Restaurant\, 313 S Guadalupe St.\, Santa Fe\, NM\, USA\, 87501
END:VEVENT
END:VCALENDAR
