BEGIN:VCALENDAR
VERSION:2.0
PRODID:-//AudioTheme 2.3.1
BEGIN:VEVENT
UID:urn:uuid:c49f4817-a12b-4929-b8b9-a3a613cf27d8
URL:https://halfpintgrowler.com/gigs/five-points-jazz-festival/
DTSTART;TZID=GMT:20180520T050000
SUMMARY:Five Points Jazz Festival
DESCRIPTION:We're closing out the festival! Join us Late Night at Goed Zuur.
LOCATION:Five Points Jazz Festival\, 2762 Welton Street\, Denver\, CO\, 80205
END:VEVENT
END:VCALENDAR
