BEGIN:VCALENDAR
VERSION:2.0
PRODID:-//AudioTheme 2.3.1
BEGIN:VEVENT
UID:urn:uuid:88894de5-b60e-4c71-b870-c4385227242a
URL:https://halfpintgrowler.com/gigs/five-points-jazz-festival-canceled/
DTSTART;TZID=GMT:20200516T213000
SUMMARY:Five Points Jazz Festival
DESCRIPTION:CANCELED  Unfortunately\, this event has gone live with a limited number of performers. We will be back for the 2021 Festival and can't wait!
LOCATION:Five Points Jazz Festival\, 2762 Welton Street\, Denver\, CO\, 80205
END:VEVENT
END:VCALENDAR
