BEGIN:VCALENDAR
VERSION:2.0
PRODID:-//AudioTheme 2.3.1
BEGIN:VEVENT
UID:urn:uuid:17af9bb2-c800-4eaa-8a83-79488702bb57
URL:https://halfpintgrowler.com/gigs/five-points-jazz-festival-2/
DTSTART;VALUE=DATE:20210515
SUMMARY:Five Points Jazz Festival
DESCRIPTION:PAUSED FOR 2021  This free festival celebrates the history of Denver's Five Points neighborhood. Once known as the Harlem of the West\, Five Points was home to several jazz clubs which played host to many of jazz music's legends. We're thrilled to return to this amazing event!
LOCATION:Five Points Jazz Festival\, 2762 Welton Street\, Denver\, CO\, 80205
END:VEVENT
END:VCALENDAR
