BEGIN:VCALENDAR
VERSION:2.0
PRODID:-//AudioTheme 2.3.1
BEGIN:VEVENT
UID:urn:uuid:3270b35d-0b30-4624-b74a-99061cd49cea
URL:https://halfpintgrowler.com/gigs/erie-brewfest/
DTSTART;TZID=GMT:20180609T180000
SUMMARY:Erie Brewfest
LOCATION:Erie Brewfest\, Historic Downtown Erie\, CO\, Erie\, CO
END:VEVENT
END:VCALENDAR
