BEGIN:VCALENDAR
VERSION:2.0
PRODID:-//AudioTheme 2.3.1
BEGIN:VEVENT
UID:urn:uuid:5b2b80f8-4c39-4f15-84b7-b89e6a202d1b
URL:https://halfpintgrowler.com/gigs/eldorado-farmers-market/
DTSTART;TZID=GMT:20220729T223000
SUMMARY:Eldorado Farmer's Market
DESCRIPTION:We couldn't be more excited to bring our swing thing to our new local hood! Join us for your recommended daily dose of fresh veggies\, tasty tunes\, and cold beers. Find us right outside of Santa Fe Brewing's Eldorado Taphouse. 
LOCATION:Eldorado Farmer's Market\, La Tienda 7 Caliente Rd.\, Santa Fe\, NM\, 87508
END:VEVENT
END:VCALENDAR
