BEGIN:VCALENDAR
VERSION:2.0
PRODID:-//AudioTheme 2.3.1
BEGIN:VEVENT
UID:urn:uuid:bae43dfb-cae0-44e7-9af2-041699426b0f
URL:https://halfpintgrowler.com/gigs/eldorado-farmers-market-4/
DTSTART;TZID=GMT:20260529T220000
SUMMARY:Eldorado Farmer's Market
DESCRIPTION:This is a great little market conveniently located right next to Santa Fe Brewing Co's Eldorado tap room! Come get some fresh veggies\, a cold beer\, and a healthy serving of swing gumbo!
LOCATION:Eldorado Farmer's Market\, La Tienda 7 Caliente Rd.\, Santa Fe\, NM\, 87508
END:VEVENT
END:VCALENDAR
