BEGIN:VCALENDAR
VERSION:2.0
PRODID:-//AudioTheme 2.3.1
BEGIN:VEVENT
UID:urn:uuid:c0dbffe6-9852-4c3a-a8c8-228151987b19
URL:https://halfpintgrowler.com/gigs/eldorado-farmers-market-3/
DTSTART;TZID=GMT:20240614T220000
SUMMARY:Eldorado Farmer's Market
DESCRIPTION:We love this sweet market! Join us for one of the area's best farmer's markets and stay for a cold cerveza and our swing gumbo! 
LOCATION:Eldorado Farmer's Market\, La Tienda 7 Caliente Rd.\, Santa Fe\, NM\, 87508
END:VEVENT
END:VCALENDAR
