BEGIN:VCALENDAR
VERSION:2.0
PRODID:-//AudioTheme 2.3.1
BEGIN:VEVENT
UID:urn:uuid:69d35c0d-517c-49d2-bdff-adce6c3699a4
URL:https://halfpintgrowler.com/gigs/eldorado-farmers-market-2/
DTSTART;TZID=GMT:20230609T223000
SUMMARY:Eldorado Farmer's Market
DESCRIPTION:We love playing this sweet Farmer's Market right in our own backyard! 
LOCATION:Eldorado Farmer's Market\, La Tienda 7 Caliente Rd.\, Santa Fe\, NM\, 87508
END:VEVENT
END:VCALENDAR
