BEGIN:VCALENDAR
VERSION:2.0
PRODID:-//AudioTheme 2.3.1
BEGIN:VEVENT
UID:urn:uuid:49e60457-2445-410b-b6b1-5e55a9ed3798
URL:https://halfpintgrowler.com/gigs/el-rey-court/
DTSTART;TZID=GMT:20220905T010000
SUMMARY:El Rey Court
DESCRIPTION:We can't wait to return to this super cool venue. Chill vibes\, superb drinks\, and our tasty mash of Latin Boleros\, Vintage Jazz\, and Bohemian Swing make for the perfect Sunday night of a long weekend. Zozobra's nothing but ashes now – it's time to have some fun!
LOCATION:El Rey Court\, 1862 Cerrillos Rd\, Santa Fe\, NM\, USA\, 87505
END:VEVENT
END:VCALENDAR
