BEGIN:VCALENDAR
VERSION:2.0
PRODID:-//AudioTheme 2.3.1
BEGIN:VEVENT
UID:urn:uuid:c9afe790-0ab3-4e48-a435-c87cc118a90a
URL:https://halfpintgrowler.com/gigs/duo-downtown-growers-market-albuquerque/
DTSTART;TZID=GMT:20230513T160000
SUMMARY:DUO Downtown Grower's Market Albuquerque
DESCRIPTION:Ed and Tamra will be playing as a duo in Tam's hometown! Please swing by for amazing offerings from local growers & makers at this urban farmer's market. 
LOCATION:Downtown Grower's Market Albuquerque\, Robinson Park 810 Copper Ave. NW\, Albuquerque\, NM\, 87102
END:VEVENT
END:VCALENDAR
