BEGIN:VCALENDAR
VERSION:2.0
PRODID:-//AudioTheme 2.3.1
BEGIN:VEVENT
UID:urn:uuid:96d6dab7-35e8-457d-9f93-65161e0e0dbb
URL:https://halfpintgrowler.com/gigs/downtown-growers-market-albuquerque/
DTSTART;TZID=GMT:20260926T160000
SUMMARY:Downtown Growers Market Albuquerque
DESCRIPTION:We think it's pretty cool that we're playing this absolutely wonderful farmers market on the day of the Harvest Full Moon! Come on out and do some early howlin' with us! And pick up seasonal veggies\, arts\, and delish baked goods and other delights\, too!
LOCATION:Downtown Grower's Market Albuquerque\, Robinson Park 810 Copper Ave. NW\, Albuquerque\, NM\, 87102
END:VEVENT
END:VCALENDAR
