BEGIN:VCALENDAR
VERSION:2.0
PRODID:-//AudioTheme 2.3.1
BEGIN:VEVENT
UID:urn:uuid:15c73d4c-803a-4e78-aa1a-6816dd6bb059
URL:https://halfpintgrowler.com/gigs/desert-party-artwalk/
DTSTART;TZID=GMT:20220716T214500
SUMMARY:Desert Party ArtWalk
DESCRIPTION:Desert Party ArtWalk is going down at SF Brewing HQ on July 16th! This full day of music\, art activities\, artist vendors\, and more supports local arts & culture non-profit organizations. Please join us!
LOCATION:Santa Fe Brewing Company\, 35 Fire Place\, Santa Fe\, NM\, 87508
END:VEVENT
END:VCALENDAR
