BEGIN:VCALENDAR
VERSION:2.0
PRODID:-//AudioTheme 2.3.1
BEGIN:VEVENT
UID:urn:uuid:e408981b-d191-41e5-8308-3a69f408c747
URL:https://halfpintgrowler.com/gigs/derby-day-at-union-station-denver-2/
DTSTART;TZID=GMT:20190504T190000
SUMMARY:Derby Day at Union Station Denver
DESCRIPTION:Join us at Denver's iconic Union Station for a truly extravagant and equally grand Derby Day party! 
LOCATION:Union Station\, 1701 Wynkoop\, Denver\, CO\, 80202
END:VEVENT
END:VCALENDAR
