BEGIN:VCALENDAR
VERSION:2.0
PRODID:-//AudioTheme 2.3.1
BEGIN:VEVENT
UID:urn:uuid:fe786840-fafb-4c4a-b88d-d9c2b7d720f9
URL:https://halfpintgrowler.com/gigs/denver-botanic-gardens-evening-al-fresco/
DTSTART;TZID=GMT:20210726T223000
SUMMARY:Denver Botanic Gardens – Evenings al Fresco
DESCRIPTION:This is sure to be a sweet night at the Gardens. Unlike a traditional concert setting\, stroll through the Gardens and encounter small\, socially distanced duos or trios. Tickets go on sale May 20.
LOCATION:Denver Botanic Gardens\, 1007 York Street\, Denver\, CO\, 80206
END:VEVENT
END:VCALENDAR
