BEGIN:VCALENDAR
VERSION:2.0
PRODID:-//AudioTheme 2.3.1
BEGIN:VEVENT
UID:urn:uuid:1d0861ca-3f51-40a6-ad67-cb5ae7ce6d22
URL:https://halfpintgrowler.com/gigs/cowgirl-bbq/
DTSTART;TZID=GMT:20220813T190000
SUMMARY:Cowgirl BBQ
DESCRIPTION:Have Y'all herd? We're bringing our Bohemian Swing to Santa Fe's favorite watering hole! Join us for a tasty mash of western swing\, New Orleans swing\, Latin Boleros\, and lively vintage jazz paired with the Cowgirl's kickin' food and drink menu. Get your dancing boots down here!
LOCATION:Cowgirl BBQ\, 319 S Guadalupe St\, Santa Fe\, NM\, 87501
END:VEVENT
END:VCALENDAR
