BEGIN:VCALENDAR
VERSION:2.0
PRODID:-//AudioTheme 2.3.1
BEGIN:VEVENT
UID:urn:uuid:35e9024c-b2e7-4d53-a704-14308930fbeb
URL:https://halfpintgrowler.com/gigs/cowgirl-bbq-santa-fe/
DTSTART;TZID=GMT:20260110T200000
SUMMARY:Cowgirl BBQ Santa Fe
DESCRIPTION:We're pretty excited to return to Santa Fe's famed Cowgirl! Please join us for lots of new music!
LOCATION:Cowgirl BBQ\, 319 S Guadalupe St\, Santa Fe\, NM\, 87501
END:VEVENT
END:VCALENDAR
