BEGIN:VCALENDAR
VERSION:2.0
PRODID:-//AudioTheme 2.3.1
BEGIN:VEVENT
UID:urn:uuid:399fad0d-e061-4593-b954-bb083833fdda
URL:https://halfpintgrowler.com/gigs/cowgirl-bbq-everyone-loves-the-cowgirl/
DTSTART;TZID=GMT:20231125T200000
SUMMARY:Cowgirl BBQ – everyone loves the Cowgirl!
DESCRIPTION:Come on down and take a break from turkey with some kickin' no meat and vegan options\, plus BBQ of course! We'll have the 4-piece on tap for y'all!
LOCATION:Cowgirl BBQ\, 319 S Guadalupe St\, Santa Fe\, NM\, 87501
END:VEVENT
END:VCALENDAR
