BEGIN:VCALENDAR
VERSION:2.0
PRODID:-//AudioTheme 2.3.1
BEGIN:VEVENT
UID:urn:uuid:e1477933-dbe1-48e4-9fec-24705cbc99bc
URL:https://halfpintgrowler.com/gigs/cowgirl-bbq-7/
DTSTART;TZID=GMT:20260912T190000
SUMMARY:Cowgirl BBQ
DESCRIPTION:Fall in Santa Fe is something special\, so is the Cowgirl Patio! Please join us!
LOCATION:Cowgirl BBQ\, 319 S Guadalupe St\, Santa Fe\, NM\, 87501
END:VEVENT
END:VCALENDAR
