BEGIN:VCALENDAR
VERSION:2.0
PRODID:-//AudioTheme 2.3.1
BEGIN:VEVENT
UID:urn:uuid:806b5c19-80de-4484-b2d8-8dbfa4b98396
URL:https://halfpintgrowler.com/gigs/cowgirl-bbq-6/
DTSTART;TZID=GMT:20250627T220000
SUMMARY:Eldorado Farmer's Market
DESCRIPTION:We're thrilled to return to our local Farmer's Market\, one of the Santa Fe area's best. Join us right outside SF Brewing's Eldorado Taphouse.
LOCATION:Eldorado Farmer's Market\, La Tienda 7 Caliente Rd.\, Santa Fe\, NM\, 87508
END:VEVENT
END:VCALENDAR
