BEGIN:VCALENDAR
VERSION:2.0
PRODID:-//AudioTheme 2.3.1
BEGIN:VEVENT
UID:urn:uuid:05db8d47-e7ca-4422-875c-5df90a71e756
URL:https://halfpintgrowler.com/gigs/cowgirl-bbq-5/
DTSTART;TZID=GMT:20250531T190000
SUMMARY:Cowgirl BBQ
DESCRIPTION:It's Ed Birthday and we're celebrating\, y'all! Please join us on Santa Fe's sweetest patio!
LOCATION:Cowgirl BBQ\, 319 S Guadalupe St\, Santa Fe\, NM\, 87501
END:VEVENT
END:VCALENDAR
