BEGIN:VCALENDAR
VERSION:2.0
PRODID:-//AudioTheme 2.3.1
BEGIN:VEVENT
UID:urn:uuid:34373415-9686-49ae-bf2b-cd738503e15c
URL:https://halfpintgrowler.com/gigs/cowgirl-bbq-4/
DTSTART;TZID=GMT:20250426T190000
SUMMARY:Cowgirl BBQ
DESCRIPTION:Spring is here and we're so excited to return to our favorite spot in Santa Fe! 
LOCATION:Cowgirl BBQ\, 319 S Guadalupe St\, Santa Fe\, NM\, 87501
END:VEVENT
END:VCALENDAR
