BEGIN:VCALENDAR
VERSION:2.0
PRODID:-//AudioTheme 2.3.1
BEGIN:VEVENT
UID:urn:uuid:95defd81-12a3-4e76-b9ff-34c20caed6da
URL:https://halfpintgrowler.com/gigs/cowgirl-bbq-3/
DTSTART;TZID=GMT:20231216T200000
SUMMARY:Cowgirl BBQ
DESCRIPTION:We're back for Saturday's favorite lunch haunt! Please join us for lost of Christmas cheer! 
LOCATION:Cowgirl BBQ\, 319 S Guadalupe St\, Santa Fe\, NM\, 87501
END:VEVENT
END:VCALENDAR
