BEGIN:VCALENDAR
VERSION:2.0
PRODID:-//AudioTheme 2.3.1
BEGIN:VEVENT
UID:urn:uuid:1d0861ca-3f51-40a6-ad67-cb5ae7ce6d22
URL:https://halfpintgrowler.com/gigs/cowgirl-bbq-2/
DTSTART;TZID=GMT:20221029T190000
SUMMARY:Cowgirl BBQ
DESCRIPTION:Everyone had so much fun at our Cowgirl debut that they're having us back for more! Join us at one of Santa Fe's favorite haunts for our tasty mash of western swing\, New Orleans swing\, and Latin Boleros paired with the Cowgirl's kickin' food and drink menu. 
LOCATION:Cowgirl BBQ\, 319 S Guadalupe St\, Santa Fe\, NM\, 87501
END:VEVENT
END:VCALENDAR
